BEGIN:VCALENDAR
VERSION:2.0
PRODID:-//UDC Jura //NONSGML Events //EN
CALSCALE:GREGORIAN
X-WR-CALNAME:UDC Jura
BEGIN:VEVENT
CREATED:20250226T135132Z
UID:16972
DTEND:20250522T000000
DTSTART:20250522T000000
DTSTAMP:20260422T044824Z
LOCATION:Bassecourt
DESCRIPTION:
SUMMARY:Assemblée UDC Jura Cantonales&rsquo\;25
ORGANIZER:
URL;VALUE=URI:https://www.udc-ju.ch/aktuell/termine/assemblee-udc-jura-cantonales25/
TRANSP:OPAQUE
END:VEVENT
END:VCALENDAR
